BEGIN:VCALENDAR
VERSION:2.0
PRODID:-//wp-events-plugin.com//7.2.3.1//EN
TZID:America/New_York
X-WR-TIMEZONE:America/New_York
BEGIN:VEVENT
UID:40@wclt.com
DTSTART;TZID=America/New_York:20240519T000000
DTEND;TZID=America/New_York:20240519T000000
DTSTAMP:20240506T152214Z
URL:https://wclt.com/events/vibe-podcast-rockin-the-block/
SUMMARY:Vibe Podcast - Rockin' The Block
DESCRIPTION:Listen on-air on T-100.3HD and Kate 98.7 for our 'Vibe Podcast'
  with Nick Lewis from Thin Line Fitness and the Millersport Lions Club abo
 ut their upcoming ‘Rockin’ The Block’ Fundraiser that benefits area 
 charities and supports local veterans and first responders. This event is 
 to celebrate the meaning of memorial day and provide resources for those i
 nterested in pursuing the next step of their career and health. Hear more 
 on the full schedule of events\, music\, and activities of that weekend.
CATEGORIES:Kate98,T-100
END:VEVENT
BEGIN:VTIMEZONE
TZID:America/New_York
X-LIC-LOCATION:America/New_York
BEGIN:DAYLIGHT
DTSTART:20240310T030000
TZOFFSETFROM:-0500
TZOFFSETTO:-0400
TZNAME:EDT
END:DAYLIGHT
END:VTIMEZONE
END:VCALENDAR