BEGIN:VCALENDAR
VERSION:2.0
PRODID:-//wp-events-plugin.com//7.2.3.1//EN
TZID:America/New_York
X-WR-TIMEZONE:America/New_York
BEGIN:VEVENT
UID:95@wclt.com
DTSTART;TZID=America/New_York:20251025T100000
DTEND;TZID=America/New_York:20251025T120000
DTSTAMP:20250728T154737Z
URL:https://wclt.com/events/specialty-rv-broadcast-2/
SUMMARY:Specialty RV Broadcast
DESCRIPTION:Join T-100 at Specialty RV in Lancaster from 10am - Noon for Bi
 g RV Deals at their newest location!
CATEGORIES:T-100
LOCATION:Specialty RV\, 2429 Columbus-Lancaster Rd\, Lancaster\, United Sta
 tes
X-APPLE-STRUCTURED-LOCATION;VALUE=URI;X-ADDRESS=2429 Columbus-Lancaster Rd\
 , Lancaster\, United States;X-APPLE-RADIUS=100;X-TITLE=Specialty RV:geo:0,
 0
END:VEVENT
BEGIN:VTIMEZONE
TZID:America/New_York
X-LIC-LOCATION:America/New_York
BEGIN:DAYLIGHT
DTSTART:20250309T030000
TZOFFSETFROM:-0500
TZOFFSETTO:-0400
TZNAME:EDT
END:DAYLIGHT
END:VTIMEZONE
END:VCALENDAR