BEGIN:VCALENDAR
VERSION:2.0
PRODID:-//wp-events-plugin.com//7.2.3.1//EN
TZID:America/New_York
X-WR-TIMEZONE:America/New_York
BEGIN:VEVENT
UID:90@wclt.com
DTSTART;TZID=America/New_York:20250809T090000
DTEND;TZID=America/New_York:20250809T110000
DTSTAMP:20250527T184002Z
URL:https://wclt.com/events/remote-broadcast-with-olde-village-meats-at-gr
 anville-farmers-market/
SUMMARY:Remote Broadcast with Olde Village Meats at Granville Farmer's Mark
 et
DESCRIPTION:Celebrate National Farmer's Market Week with Kelsey and Ole Vil
 lage Meats at the Granville Farmer's Market on August 9th from 9am - 11am!
CATEGORIES:T-100
LOCATION:Raccoon Valley Park\, 1221 W. River Rd\, Granville\, OH\, 43023\, 
 United States
X-APPLE-STRUCTURED-LOCATION;VALUE=URI;X-ADDRESS=1221 W. River Rd\, Granvill
 e\, OH\, 43023\, United States;X-APPLE-RADIUS=100;X-TITLE=Raccoon Valley P
 ark:geo:0,0
END:VEVENT
BEGIN:VTIMEZONE
TZID:America/New_York
X-LIC-LOCATION:America/New_York
BEGIN:DAYLIGHT
DTSTART:20250309T030000
TZOFFSETFROM:-0500
TZOFFSETTO:-0400
TZNAME:EDT
END:DAYLIGHT
END:VTIMEZONE
END:VCALENDAR