BEGIN:VCALENDAR
VERSION:2.0
PRODID:-//wp-events-plugin.com//7.2.3.1//EN
TZID:America/New_York
X-WR-TIMEZONE:America/New_York
BEGIN:VEVENT
UID:89@wclt.com
DTSTART;TZID=America/New_York:20250704T150000
DTEND;TZID=America/New_York:20250704T210000
DTSTAMP:20250527T183226Z
URL:https://wclt.com/events/remote-broadcast-hilliard-recreation-and-parks
 freedom-fest/
SUMMARY:Remote Broadcast at Hilliard Recreation and Park's Freedom Fest
DESCRIPTION:Join Wild Walley at Hilliard Recreation and Parks Freedom Fest 
 at Roger A. Reynolds Memorial Park from 3pm to 9pm
CATEGORIES:T-100
LOCATION:Roger A. Reynolds Memorial Park\, 3800 Veterans Memorial Dr\, Hill
 iard\, United States
X-APPLE-STRUCTURED-LOCATION;VALUE=URI;X-ADDRESS=3800 Veterans Memorial Dr\,
  Hilliard\, United States;X-APPLE-RADIUS=100;X-TITLE=Roger A. Reynolds Mem
 orial Park:geo:0,0
END:VEVENT
BEGIN:VTIMEZONE
TZID:America/New_York
X-LIC-LOCATION:America/New_York
BEGIN:DAYLIGHT
DTSTART:20250309T030000
TZOFFSETFROM:-0500
TZOFFSETTO:-0400
TZNAME:EDT
END:DAYLIGHT
END:VTIMEZONE
END:VCALENDAR