BEGIN:VCALENDAR
VERSION:2.0
PRODID:-//wp-events-plugin.com//7.2.3.1//EN
TZID:America/New_York
X-WR-TIMEZONE:America/New_York
BEGIN:VEVENT
UID:93@wclt.com
DTSTART;TZID=America/New_York:20250621T100000
DTEND;TZID=America/New_York:20250621T120000
DTSTAMP:20250603T155636Z
URL:https://wclt.com/events/remote-broadcast-at-rona-rv/
SUMMARY:Remote Broadcast at Rona RV
DESCRIPTION:Join T-100 at Rona RV in Pataskala from 10am - 12pm on June 21s
 t for their Open House Event.
CATEGORIES:T-100
LOCATION:Rona Rv\, 30 W. Broad St. \, Pataskala\, United States
X-APPLE-STRUCTURED-LOCATION;VALUE=URI;X-ADDRESS=30 W. Broad St. \, Pataskal
 a\, United States;X-APPLE-RADIUS=100;X-TITLE=Rona Rv:geo:0,0
END:VEVENT
BEGIN:VTIMEZONE
TZID:America/New_York
X-LIC-LOCATION:America/New_York
BEGIN:DAYLIGHT
DTSTART:20250309T030000
TZOFFSETFROM:-0500
TZOFFSETTO:-0400
TZNAME:EDT
END:DAYLIGHT
END:VTIMEZONE
END:VCALENDAR