BEGIN:VCALENDAR
VERSION:2.0
PRODID:-//wp-events-plugin.com//7.2.3.1//EN
TZID:America/New_York
X-WR-TIMEZONE:America/New_York
BEGIN:VEVENT
UID:91@wclt.com
DTSTART;TZID=America/New_York:20250726T100000
DTEND;TZID=America/New_York:20250726T120000
DTSTAMP:20250527T184319Z
URL:https://wclt.com/events/remote-broadcast-at-lynd-fruit-farm/
SUMMARY:Remote Broadcast at Lynd Fruit Farm
DESCRIPTION:Join T-100 at Lynd Fruit Farm in Pataskala from 10am - Noon for
  their big Pickle Party which includes fresh produce and all of the pickle
 s you can eat!
CATEGORIES:T-100
LOCATION:Lynd Fruit Farm\, 9399 Morse Rd SW\, Pataskala\, United States
GEO:40.055668;-82.666198
X-APPLE-STRUCTURED-LOCATION;VALUE=URI;X-ADDRESS=9399 Morse Rd SW\, Pataskal
 a\, United States;X-APPLE-RADIUS=100;X-TITLE=Lynd Fruit Farm:geo:40.055668
 ,-82.666198
END:VEVENT
BEGIN:VTIMEZONE
TZID:America/New_York
X-LIC-LOCATION:America/New_York
BEGIN:DAYLIGHT
DTSTART:20250309T030000
TZOFFSETFROM:-0500
TZOFFSETTO:-0400
TZNAME:EDT
END:DAYLIGHT
END:VTIMEZONE
END:VCALENDAR