BEGIN:VCALENDAR
VERSION:2.0
PRODID:-//wp-events-plugin.com//7.2.3.1//EN
TZID:America/New_York
X-WR-TIMEZONE:America/New_York
BEGIN:VEVENT
UID:92@wclt.com
DTSTART;TZID=America/New_York:20250823T100000
DTEND;TZID=America/New_York:20250823T140000
DTSTAMP:20250602T202825Z
URL:https://wclt.com/events/remote-broadcast-at-hopewell-federal-credit-un
 ion/
SUMMARY:Remote Broadcast at Hopewell Federal Credit Union
DESCRIPTION:Join T-100 at Hopewell Federal Credit Union in Newark on August
  23rd from 10am until 2pm for their Car Show for Licking County Humane Soc
 iety.
CATEGORIES:T-100
END:VEVENT
BEGIN:VTIMEZONE
TZID:America/New_York
X-LIC-LOCATION:America/New_York
BEGIN:DAYLIGHT
DTSTART:20250309T030000
TZOFFSETFROM:-0500
TZOFFSETTO:-0400
TZNAME:EDT
END:DAYLIGHT
END:VTIMEZONE
END:VCALENDAR