BEGIN:VCALENDAR
VERSION:2.0
PRODID:-//wp-events-plugin.com//7.2.3.1//EN
TZID:America/New_York
X-WR-TIMEZONE:America/New_York
BEGIN:VEVENT
UID:88@wclt.com
DTSTART;TZID=America/New_York:20250607T100000
DTEND;TZID=America/New_York:20250607T120000
DTSTAMP:20250527T175427Z
URL:https://wclt.com/events/remote-broadcast-at-cec-turf-tractor/
SUMMARY:Remote Broadcast at CEC Turf & Tractor
DESCRIPTION:Join Wild Walley at CEC Turf &amp\; Tractor in Canal Winchester
  for their open house event on Saturday\, June 7th from 9am - 12pm and enj
 oy Food\, Entertainment\, and Giveaways inside their gigantic showroom!
CATEGORIES:T-100
LOCATION:CEC Turf & Tractor\, 9449 Basil Western Rd.\, Canal Winchester\, U
 nited States
X-APPLE-STRUCTURED-LOCATION;VALUE=URI;X-ADDRESS=9449 Basil Western Rd.\, Ca
 nal Winchester\, United States;X-APPLE-RADIUS=100;X-TITLE=CEC Turf & Tract
 or:geo:0,0
END:VEVENT
BEGIN:VTIMEZONE
TZID:America/New_York
X-LIC-LOCATION:America/New_York
BEGIN:DAYLIGHT
DTSTART:20250309T030000
TZOFFSETFROM:-0500
TZOFFSETTO:-0400
TZNAME:EDT
END:DAYLIGHT
END:VTIMEZONE
END:VCALENDAR