BEGIN:VCALENDAR
VERSION:2.0
PRODID:-//wp-events-plugin.com//7.2.3.1//EN
TZID:America/New_York
X-WR-TIMEZONE:America/New_York
BEGIN:VEVENT
UID:53@wclt.com
DTSTART;TZID=America/New_York:20240810T090000
DTEND;TZID=America/New_York:20240810T110000
DTSTAMP:20240723T182038Z
URL:https://wclt.com/events/olde-village-meats-remote/
SUMMARY:Olde Village Meats Remote
DESCRIPTION:Join T-100 at Olde Village Meats in Granville for National Farm
 er's Market Day on Saturday\, August 20th from 9am to 11am.
CATEGORIES:T-100
LOCATION:Olde Village Meats\, 1225 River Rd.\, Granville\, United States
X-APPLE-STRUCTURED-LOCATION;VALUE=URI;X-ADDRESS=1225 River Rd.\, Granville\
 , United States;X-APPLE-RADIUS=100;X-TITLE=Olde Village Meats:geo:0,0
END:VEVENT
BEGIN:VTIMEZONE
TZID:America/New_York
X-LIC-LOCATION:America/New_York
BEGIN:DAYLIGHT
DTSTART:20240310T030000
TZOFFSETFROM:-0500
TZOFFSETTO:-0400
TZNAME:EDT
END:DAYLIGHT
END:VTIMEZONE
END:VCALENDAR