BEGIN:VCALENDAR
VERSION:2.0
PRODID:-//wp-events-plugin.com//7.2.3.1//EN
TZID:America/New_York
X-WR-TIMEZONE:America/New_York
BEGIN:VEVENT
UID:104@wclt.com
DTSTART;TZID=America/New_York:20260116T110000
DTEND;TZID=America/New_York:20260116T130000
DTSTAMP:20250929T150736Z
URL:https://wclt.com/events/northeast-ohio-sportsman-show/
SUMMARY:Northeast Ohio Sportsman Show Remote Broadcast
DESCRIPTION:Join T-100 at the Northeast Ohio Sportsman Show at the Mount Ho
 pe Event Center in Millersburg from 11am - 1pm. Listen for more informatio
 n on T-100 as we get closer to the event.
CATEGORIES:T-100
LOCATION:Mount Hope Event Center\, 8076 SR - 241\, Millersburg\, United Sta
 tes
X-APPLE-STRUCTURED-LOCATION;VALUE=URI;X-ADDRESS=8076 SR - 241\, Millersburg
 \, United States;X-APPLE-RADIUS=100;X-TITLE=Mount Hope Event Center:geo:0,
 0
END:VEVENT
BEGIN:VTIMEZONE
TZID:America/New_York
X-LIC-LOCATION:America/New_York
BEGIN:STANDARD
DTSTART:20251102T010000
TZOFFSETFROM:-0400
TZOFFSETTO:-0500
TZNAME:EST
END:STANDARD
END:VTIMEZONE
END:VCALENDAR