BEGIN:VCALENDAR
VERSION:2.0
PRODID:-//wp-events-plugin.com//7.2.3.1//EN
TZID:America/New_York
X-WR-TIMEZONE:America/New_York
BEGIN:VEVENT
UID:101@wclt.com
DTSTART;TZID=America/New_York:20250827T180000
DTEND;TZID=America/New_York:20250830T200000
DTSTAMP:20250826T183425Z
URL:https://wclt.com/events/millersport-sweet-corn-festival/
SUMMARY:Millersport Sweet Corn Festival
DESCRIPTION:Look for T-100 at the 2026 Millersport Sweet Corn Festival Wedn
 esday\, August 27th through Saturday\, August 30th from 6 - 8pm.
CATEGORIES:T-100
LOCATION:Millersport Sweet Corn Fairgrounds\, 2905 Chautauqua Blvd\, Miller
 sport\, United States
GEO:39.897098;-82.526743
X-APPLE-STRUCTURED-LOCATION;VALUE=URI;X-ADDRESS=2905 Chautauqua Blvd\, Mill
 ersport\, United States;X-APPLE-RADIUS=100;X-TITLE=Millersport Sweet Corn 
 Fairgrounds:geo:39.897098,-82.526743
END:VEVENT
BEGIN:VTIMEZONE
TZID:America/New_York
X-LIC-LOCATION:America/New_York
BEGIN:DAYLIGHT
DTSTART:20250309T030000
TZOFFSETFROM:-0500
TZOFFSETTO:-0400
TZNAME:EDT
END:DAYLIGHT
END:VTIMEZONE
END:VCALENDAR