BEGIN:VCALENDAR
VERSION:2.0
PRODID:-//wp-events-plugin.com//7.2.3.1//EN
TZID:America/New_York
X-WR-TIMEZONE:America/New_York
BEGIN:VEVENT
UID:98@wclt.com
DTSTART;TZID=America/New_York:20250904T160000
DTEND;TZID=America/New_York:20250904T180000
DTSTAMP:20250826T190322Z
URL:https://wclt.com/events/main-street-pizzeria-and-pub-2/
SUMMARY:Main Street Pizzeria and Pub Broadcast
DESCRIPTION:Join T-100 Thursday\, September 4th from 4pm - 6pm at Main Stre
 et Pizzeria and Pub in Dresden for pizza deals\, prizes\, and see their ne
 wly expanded pub!
CATEGORIES:T-100
LOCATION:Main Street Pizzeria and Pub\, 705 Main St.\, Dresden\, United Sta
 tes
X-APPLE-STRUCTURED-LOCATION;VALUE=URI;X-ADDRESS=705 Main St.\, Dresden\, Un
 ited States;X-APPLE-RADIUS=100;X-TITLE=Main Street Pizzeria and Pub:geo:0,
 0
END:VEVENT
BEGIN:VTIMEZONE
TZID:America/New_York
X-LIC-LOCATION:America/New_York
BEGIN:DAYLIGHT
DTSTART:20250309T030000
TZOFFSETFROM:-0500
TZOFFSETTO:-0400
TZNAME:EDT
END:DAYLIGHT
END:VTIMEZONE
END:VCALENDAR