BEGIN:VCALENDAR
VERSION:2.0
PRODID:-//wp-events-plugin.com//7.2.3.1//EN
TZID:America/New_York
X-WR-TIMEZONE:America/New_York
BEGIN:VEVENT
UID:50@wclt.com
DTSTART;TZID=America/New_York:20250524T100000
DTEND;TZID=America/New_York:20250524T120000
DTSTAMP:20240603T172614Z
URL:https://wclt.com/events/lynd-fruit-farm-remote/
SUMMARY:Lynd's Fruit Farm Remote Broadcast
DESCRIPTION:Join T-100 at Lynd's Fruit Farm in Pataskala on May 24th\, 2025
  from 10am to Noon for their Memorial Day Weekend Craft Show Event!
CATEGORIES:T-100
END:VEVENT
BEGIN:VTIMEZONE
TZID:America/New_York
X-LIC-LOCATION:America/New_York
BEGIN:DAYLIGHT
DTSTART:20250309T030000
TZOFFSETFROM:-0500
TZOFFSETTO:-0400
TZNAME:EDT
END:DAYLIGHT
END:VTIMEZONE
END:VCALENDAR