BEGIN:VCALENDAR
VERSION:2.0
PRODID:-//wp-events-plugin.com//7.2.3.1//EN
TZID:America/New_York
X-WR-TIMEZONE:America/New_York
BEGIN:VEVENT
UID:57@wclt.com
DTSTART;TZID=America/New_York:20241010T180000
DTEND;TZID=America/New_York:20241010T200000
DTSTAMP:20241001T195324Z
URL:https://wclt.com/events/licking-county-candidate-forum/
SUMMARY:Licking County Candidate Forum
DESCRIPTION:We are teaming up with The Licking County Farm Bureau and the R
 eporting Project to present the Licking County Candidate Forum LIVE on Oct
 ober 10th at 6pm on Kate 98.7\n\nWe will be talking with the candidates ru
 nning for Licking County Commissioner\, Licking County Common Please Judge
 \, State Representative\, and More. Candidate will discuss how they plan t
 o tackle the important issues at hand. Listen on Thursday\, October 10th a
 t 6pm LIVE on Kate 98.7.
CATEGORIES:Kate98,T-100
END:VEVENT
BEGIN:VTIMEZONE
TZID:America/New_York
X-LIC-LOCATION:America/New_York
BEGIN:DAYLIGHT
DTSTART:20240310T030000
TZOFFSETFROM:-0500
TZOFFSETTO:-0400
TZNAME:EDT
END:DAYLIGHT
END:VTIMEZONE
END:VCALENDAR