BEGIN:VCALENDAR
VERSION:2.0
PRODID:-//wp-events-plugin.com//7.2.3.1//EN
TZID:America/New_York
X-WR-TIMEZONE:America/New_York
BEGIN:VEVENT
UID:76@wclt.com
DTSTART;TZID=America/New_York:20250721T170000
DTEND;TZID=America/New_York:20250726T200000
DTSTAMP:20250204T165155Z
URL:https://wclt.com/events/knox-county-fair-broadcast/
SUMMARY:Knox County Fair Broadcast
DESCRIPTION:Join the WCLT Radio Group broadcasting 5pm - 8pm and reporting 
 on all of the fair fun all week long!
CATEGORIES:Kate98,T-100
LOCATION:Knox County Fairgrounds\, 601 Fairgrounds Rd\, Mt. Vernon\, United
  States
X-APPLE-STRUCTURED-LOCATION;VALUE=URI;X-ADDRESS=601 Fairgrounds Rd\, Mt. Ve
 rnon\, United States;X-APPLE-RADIUS=100;X-TITLE=Knox County Fairgrounds:ge
 o:0,0
END:VEVENT
BEGIN:VTIMEZONE
TZID:America/New_York
X-LIC-LOCATION:America/New_York
BEGIN:DAYLIGHT
DTSTART:20250309T030000
TZOFFSETFROM:-0500
TZOFFSETTO:-0400
TZNAME:EDT
END:DAYLIGHT
END:VTIMEZONE
END:VCALENDAR