BEGIN:VCALENDAR
VERSION:2.0
PRODID:-//wp-events-plugin.com//7.2.3.1//EN
TZID:America/New_York
X-WR-TIMEZONE:America/New_York
BEGIN:VEVENT
UID:30@wclt.com
DTSTART;TZID=America/New_York;VALUE=DATE:20240803
DTEND;TZID=America/New_York;VALUE=DATE:20240811
DTSTAMP:20240723T195335Z
URL:https://wclt.com/events/hartford-independent-fair/
SUMMARY:Hartford Independent Fair
DESCRIPTION:Join us at the 2024 Hartford Independent Fair...located at 1402
 8 Fairgrounds Road in Croton.
CATEGORIES:Kate98,T-100
LOCATION:Hartford Fairgrounds\,  14028 Fairgrounds Rd\, Hartford\, United S
 tates
X-APPLE-STRUCTURED-LOCATION;VALUE=URI;X-ADDRESS= 14028 Fairgrounds Rd\, Har
 tford\, United States;X-APPLE-RADIUS=100;X-TITLE=Hartford Fairgrounds:geo:
 0,0
END:VEVENT
BEGIN:VTIMEZONE
TZID:America/New_York
X-LIC-LOCATION:America/New_York
BEGIN:DAYLIGHT
DTSTART:20240310T030000
TZOFFSETFROM:-0500
TZOFFSETTO:-0400
TZNAME:EDT
END:DAYLIGHT
END:VTIMEZONE
END:VCALENDAR