BEGIN:VCALENDAR
VERSION:2.0
PRODID:-//wp-events-plugin.com//7.2.3.1//EN
TZID:America/New_York
X-WR-TIMEZONE:America/New_York
BEGIN:VEVENT
UID:73@wclt.com
DTSTART;TZID=America/New_York:20250322T080000
DTEND;TZID=America/New_York:20250322T100000
DTSTAMP:20250320T171921Z
URL:https://wclt.com/events/farmers-share-breakfast/
SUMMARY:Farmer's Share Breakfast
DESCRIPTION:Join T-100 at the Farmer's Share Breakfast at C-TEC in Newark f
 rom 7am - 9am and enjoy omelettes cooked up from local officials at this a
 nnual event!
CATEGORIES:T-100
LOCATION:C-TEC\, 150 Price Rd\, Newark\, United States
X-APPLE-STRUCTURED-LOCATION;VALUE=URI;X-ADDRESS=150 Price Rd\, Newark\, Uni
 ted States;X-APPLE-RADIUS=100;X-TITLE=C-TEC:geo:0,0
END:VEVENT
BEGIN:VTIMEZONE
TZID:America/New_York
X-LIC-LOCATION:America/New_York
BEGIN:DAYLIGHT
DTSTART:20250309T030000
TZOFFSETFROM:-0500
TZOFFSETTO:-0400
TZNAME:EDT
END:DAYLIGHT
END:VTIMEZONE
END:VCALENDAR