BEGIN:VCALENDAR
VERSION:2.0
PRODID:-//wp-events-plugin.com//7.2.3.1//EN
TZID:America/New_York
X-WR-TIMEZONE:America/New_York
BEGIN:VEVENT
UID:56@wclt.com
DTSTART;TZID=America/New_York:20240928T140000
DTEND;TZID=America/New_York:20240928T160000
DTSTAMP:20240806T195607Z
URL:https://wclt.com/events/coshocton-county-fair-remote-broadcast/
SUMMARY:Coshocton County Fair Remote Broadcast
DESCRIPTION:Join T-100 at the Coshocton County Fair broadcasting from 2pm -
  4pm on September 28th\, 2024
CATEGORIES:T-100
LOCATION:Coshocton County Fairgrounds\, 707 Kenilworth Ave.\, Coshocton\, U
 nited States
X-APPLE-STRUCTURED-LOCATION;VALUE=URI;X-ADDRESS=707 Kenilworth Ave.\, Cosho
 cton\, United States;X-APPLE-RADIUS=100;X-TITLE=Coshocton County Fairgroun
 ds:geo:0,0
END:VEVENT
BEGIN:VTIMEZONE
TZID:America/New_York
X-LIC-LOCATION:America/New_York
BEGIN:DAYLIGHT
DTSTART:20240310T030000
TZOFFSETFROM:-0500
TZOFFSETTO:-0400
TZNAME:EDT
END:DAYLIGHT
END:VTIMEZONE
END:VCALENDAR