BEGIN:VCALENDAR
VERSION:2.0
PRODID:-//wp-events-plugin.com//7.2.3.1//EN
TZID:America/New_York
X-WR-TIMEZONE:America/New_York
BEGIN:VEVENT
UID:22@wclt.com
DTSTART;TZID=America/New_York:20240831T100000
DTEND;TZID=America/New_York:20240831T120000
DTSTAMP:20240723T182239Z
URL:https://wclt.com/events/capital-city-chrome/
SUMMARY:Capital City Chrome
DESCRIPTION:Join T-100 for the Annual 'Capital City Chrome - Customer Appre
 ciation / Truck Show'.  Food\, Prizes\, and more.  Capital City Chrome 5
 0 Park\, Pataskala.\n\n\n
CATEGORIES:T-100
LOCATION:Capital City Chrome\, 50 Park Ave. \, Pataskala\, United States
X-APPLE-STRUCTURED-LOCATION;VALUE=URI;X-ADDRESS=50 Park Ave. \, Pataskala\,
  United States;X-APPLE-RADIUS=100;X-TITLE=Capital City Chrome:geo:0,0
END:VEVENT
BEGIN:VTIMEZONE
TZID:America/New_York
X-LIC-LOCATION:America/New_York
BEGIN:DAYLIGHT
DTSTART:20240310T030000
TZOFFSETFROM:-0500
TZOFFSETTO:-0400
TZNAME:EDT
END:DAYLIGHT
END:VTIMEZONE
END:VCALENDAR