BEGIN:VCALENDAR
VERSION:2.0
PRODID:-//wp-events-plugin.com//7.2.3.1//EN
TZID:America/New_York
X-WR-TIMEZONE:America/New_York
BEGIN:VEVENT
UID:103@wclt.com
DTSTART;TZID=America/New_York:20251004T090000
DTEND;TZID=America/New_York:20251004T110000
DTSTAMP:20250929T150523Z
URL:https://wclt.com/events/buckeye-valley-family-ymca-remote-broadcast/
SUMMARY:Buckeye Valley Family YMCA Remote Broadcast
DESCRIPTION:Join T-100 at Buckeye Valley Family YMCA in Zanesville from 9am
  - 11am for their Annual Fall Fest!
CATEGORIES:T-100
LOCATION:Buckeye Valley Family YMCA\, 1425 Newark Rd.\, Zanesville\, United
  States
X-APPLE-STRUCTURED-LOCATION;VALUE=URI;X-ADDRESS=1425 Newark Rd.\, Zanesvill
 e\, United States;X-APPLE-RADIUS=100;X-TITLE=Buckeye Valley Family YMCA:ge
 o:0,0
END:VEVENT
BEGIN:VTIMEZONE
TZID:America/New_York
X-LIC-LOCATION:America/New_York
BEGIN:DAYLIGHT
DTSTART:20250309T030000
TZOFFSETFROM:-0500
TZOFFSETTO:-0400
TZNAME:EDT
END:DAYLIGHT
END:VTIMEZONE
END:VCALENDAR