BEGIN:VCALENDAR
VERSION:2.0
PRODID:-//wp-events-plugin.com//7.2.3.1//EN
TZID:America/New_York
X-WR-TIMEZONE:America/New_York
BEGIN:VEVENT
UID:105@wclt.com
DTSTART;TZID=America/New_York:20251218T160000
DTEND;TZID=America/New_York:20251218T180000
DTSTAMP:20251030T185305Z
URL:https://wclt.com/events/broadcast-at-pablos-tires/
SUMMARY:Broadcast at Pablo's Tires
DESCRIPTION:Join T-100 at Pablo's Tires in Zanesville for the 5th annual Sa
 nta Toy Giveaway. Santa and The Grinch will be present as well on Thursday
 \, December 18th from 4pm - 6pm
CATEGORIES:T-100
LOCATION:Pablo's Tires\, 758 Putnam Ave \, Zanesville\, United States
X-APPLE-STRUCTURED-LOCATION;VALUE=URI;X-ADDRESS=758 Putnam Ave \, Zanesvill
 e\, United States;X-APPLE-RADIUS=100;X-TITLE=Pablo's Tires:geo:0,0
END:VEVENT
BEGIN:VTIMEZONE
TZID:America/New_York
X-LIC-LOCATION:America/New_York
BEGIN:STANDARD
DTSTART:20251102T010000
TZOFFSETFROM:-0400
TZOFFSETTO:-0500
TZNAME:EST
END:STANDARD
END:VTIMEZONE
END:VCALENDAR