BEGIN:VCALENDAR
VERSION:2.0
PRODID:-//wp-events-plugin.com//7.2.3.1//EN
TZID:America/New_York
X-WR-TIMEZONE:America/New_York
BEGIN:VEVENT
UID:107@wclt.com
DTSTART;TZID=America/New_York:20251206T090000
DTEND;TZID=America/New_York:20251206T110000
DTSTAMP:20251202T200405Z
URL:https://wclt.com/events/broadcast-at-licking-county-family-ymca-run-ru
 n-reindeer-run-walk/
SUMMARY:Broadcast at Buckeye Valley Family YMCA - Run Run Reindeer Run Walk
DESCRIPTION:Join T-100 at Buckeye Valley Family YMCA from 9am - 11am on Dec
 ember 6th for the Run Run Reindeer 5K.
CATEGORIES:T-100
LOCATION:YMCA\, 470 West Church St\, Newark\, United States
X-APPLE-STRUCTURED-LOCATION;VALUE=URI;X-ADDRESS=470 West Church St\, Newark
 \, United States;X-APPLE-RADIUS=100;X-TITLE=YMCA:geo:0,0
END:VEVENT
BEGIN:VTIMEZONE
TZID:America/New_York
X-LIC-LOCATION:America/New_York
BEGIN:STANDARD
DTSTART:20251102T010000
TZOFFSETFROM:-0400
TZOFFSETTO:-0500
TZNAME:EST
END:STANDARD
END:VTIMEZONE
END:VCALENDAR