BEGIN:VCALENDAR
VERSION:2.0
PRODID:-//wp-events-plugin.com//7.2.3.1//EN
TZID:America/New_York
X-WR-TIMEZONE:America/New_York
BEGIN:VEVENT
UID:106@wclt.com
DTSTART;TZID=America/New_York:20260103T100000
DTEND;TZID=America/New_York:20260103T120000
DTSTAMP:20251117T194024Z
URL:https://wclt.com/events/broadcast-at-destination-wellness/
SUMMARY:Broadcast at Destination Wellness
DESCRIPTION:Join T-100 at Destination Wellness from 10am - Noon on January 
 3rd with a free class and massages\, discounts on Classes and Memberships.
  Plus\, Food and Drinks Samples!
CATEGORIES:T-100
LOCATION:Destination Wellness\, 31 West Church St\, Newark\, United States
X-APPLE-STRUCTURED-LOCATION;VALUE=URI;X-ADDRESS=31 West Church St\, Newark\
 , United States;X-APPLE-RADIUS=100;X-TITLE=Destination Wellness:geo:0,0
END:VEVENT
BEGIN:VTIMEZONE
TZID:America/New_York
X-LIC-LOCATION:America/New_York
BEGIN:STANDARD
DTSTART:20251102T010000
TZOFFSETFROM:-0400
TZOFFSETTO:-0500
TZNAME:EST
END:STANDARD
END:VTIMEZONE
END:VCALENDAR